BEGIN:VCALENDAR
VERSION:2.0
PRODID:Events Booking
BEGIN:VEVENT
UID:69ea1ad23d1c6
SUMMARY:2026 Bay Area Catfish Challenge
DESCRIPTION:
DTSTART:20260530T120000Z
DTEND:20260531T000000Z
DTSTAMP:20240813T020353Z
ORGANIZER;CN=anglerspress@hotmail.com:MAILTO:anglerspress@hotmail.com
END:VEVENT
END:VCALENDAR