BEGIN:VCALENDAR
VERSION:2.0
PRODID:Events Booking
BEGIN:VEVENT
UID:69ea1c0651aec
SUMMARY:2026 Delta Big Bass Challenge - Presented by Gamakatsu
DESCRIPTION:
DTSTART:20260509T120000Z
DTEND:20260510T000000Z
DTSTAMP:20240813T020353Z
ORGANIZER;CN=anglerspress@hotmail.com:MAILTO:anglerspress@hotmail.com
END:VEVENT
END:VCALENDAR