BEGIN:VCALENDAR
VERSION:2.0
PRODID:Events Booking
BEGIN:VEVENT
UID:69ea1bc485e0e
SUMMARY:2026 NTAC: Collins Lake (TOC)
DESCRIPTION:
DTSTART:20261107T130000Z
DTEND:20261109T010000Z
DTSTAMP:20240221T023144Z
ORGANIZER;CN=anglerspress@hotmail.com:MAILTO:anglerspress@hotmail.com
END:VEVENT
END:VCALENDAR