BEGIN:VCALENDAR
VERSION:2.0
PRODID:Events Booking
BEGIN:VEVENT
UID:69eb9b3516a08
SUMMARY:Ultimate Frog Challenge 11
DESCRIPTION:
LOCATION:3995 South Willow Road Bethel Island\, CA 94511
DTSTART:20250726T120000Z
DTEND:20250728T000000Z
DTSTAMP:20240224T012155Z
ORGANIZER;CN=anglerspress@hotmail.com:MAILTO:anglerspress@hotmail.com
GEO:35.56097;-120.778138
X-APPLE-STRUCTURED-LOCATION;VALUE=URI;X-ADDRESS=3995 South Willow Road Beth
 el Island\, CA 94511;X-APPLE-RADIUS=72;X-TITLE=Russo's:35.56097;-120.77813
 8
END:VEVENT
END:VCALENDAR